﻿BEGIN:VCALENDAR
VERSION:2.0
PRODID:-//Weingut Michael Schneider - ECPv6.1.3//NONSGML v1.0//EN
CALSCALE:GREGORIAN
METHOD:PUBLISH
X-ORIGINAL-URL:https://www.michael-schneider.wine
X-WR-CALDESC:Veranstaltungen für Weingut Michael Schneider
REFRESH-INTERVAL;VALUE=DURATION:PT1H
X-Robots-Tag:noindex
X-PUBLISHED-TTL:PT1H
BEGIN:VTIMEZONE
TZID:Europe/Berlin
BEGIN:DAYLIGHT
TZOFFSETFROM:+0100
TZOFFSETTO:+0200
TZNAME:CEST
DTSTART:20220327T010000
END:DAYLIGHT
BEGIN:STANDARD
TZOFFSETFROM:+0200
TZOFFSETTO:+0100
TZNAME:CET
DTSTART:20221030T010000
END:STANDARD
END:VTIMEZONE
BEGIN:VEVENT
DTSTART;VALUE=DATE:20220903
DTEND;VALUE=DATE:20220904
DTSTAMP:20260420T202032
CREATED:20220519T113615Z
LAST-MODIFIED:20220519T125519Z
UID:2543-1662163200-1662249599@www.michael-schneider.wine
SUMMARY:Kulturnacht Andernach
DESCRIPTION:Wir freuen uns Teil der Kulturnacht Andernach zu sein und euch bei uns begrüßen zu dürfen.
URL:https://www.michael-schneider.wine/veranstaltungen/kulturnacht-andernach/
LOCATION:Innenstadt Andernach\, 56626 Andernach\, Innenstadt\, Andernach\, Rheinland-Pfalz\, 56626\, Deutschland
END:VEVENT
END:VCALENDAR