﻿BEGIN:VCALENDAR
VERSION:2.0
PRODID:-//Weingut Michael Schneider - ECPv6.1.3//NONSGML v1.0//EN
CALSCALE:GREGORIAN
METHOD:PUBLISH
X-ORIGINAL-URL:https://www.michael-schneider.wine
X-WR-CALDESC:Veranstaltungen für Weingut Michael Schneider
REFRESH-INTERVAL;VALUE=DURATION:PT1H
X-Robots-Tag:noindex
X-PUBLISHED-TTL:PT1H
BEGIN:VTIMEZONE
TZID:Europe/Berlin
BEGIN:DAYLIGHT
TZOFFSETFROM:+0100
TZOFFSETTO:+0200
TZNAME:CEST
DTSTART:20220327T010000
END:DAYLIGHT
BEGIN:STANDARD
TZOFFSETFROM:+0200
TZOFFSETTO:+0100
TZNAME:CET
DTSTART:20221030T010000
END:STANDARD
END:VTIMEZONE
BEGIN:VEVENT
DTSTART;VALUE=DATE:20220923
DTEND;VALUE=DATE:20220927
DTSTAMP:20260420T202011
CREATED:20220519T124606Z
LAST-MODIFIED:20220519T124606Z
UID:2578-1663891200-1664236799@www.michael-schneider.wine
SUMMARY:Weinfest Boppard
DESCRIPTION:
URL:https://www.michael-schneider.wine/veranstaltungen/weinfest-boppard/
LOCATION:Marktplatz Boppard\, Marktplatz\, Boppard\, Rheinland-Pfalz\, 56154\, Deutschland
END:VEVENT
END:VCALENDAR