﻿BEGIN:VCALENDAR
VERSION:2.0
PRODID:-//Weingut Michael Schneider - ECPv6.1.3//NONSGML v1.0//EN
CALSCALE:GREGORIAN
METHOD:PUBLISH
X-ORIGINAL-URL:https://www.michael-schneider.wine
X-WR-CALDESC:Veranstaltungen für Weingut Michael Schneider
REFRESH-INTERVAL;VALUE=DURATION:PT1H
X-Robots-Tag:noindex
X-PUBLISHED-TTL:PT1H
BEGIN:VTIMEZONE
TZID:Europe/Berlin
BEGIN:DAYLIGHT
TZOFFSETFROM:+0100
TZOFFSETTO:+0200
TZNAME:CEST
DTSTART:20220327T010000
END:DAYLIGHT
BEGIN:STANDARD
TZOFFSETFROM:+0200
TZOFFSETTO:+0100
TZNAME:CET
DTSTART:20221030T010000
END:STANDARD
END:VTIMEZONE
BEGIN:VEVENT
DTSTART;TZID=Europe/Berlin:20220603T150000
DTEND;TZID=Europe/Berlin:20220603T180000
DTSTAMP:20260420T233809
CREATED:20220519T125215Z
LAST-MODIFIED:20220519T125215Z
UID:2585-1654268400-1654279200@www.michael-schneider.wine
SUMMARY:Wochenmarkt Buchholz
DESCRIPTION:
URL:https://www.michael-schneider.wine/veranstaltungen/wochenmarkt-buchholz-3/
LOCATION:Heideplatz\, 56154 Boppard\, Heideplatz\, Boppard\, Rheinland-Pfalz\, 56154\, Deutschland
END:VEVENT
BEGIN:VEVENT
DTSTART;TZID=Europe/Berlin:20220604T110000
DTEND;TZID=Europe/Berlin:20220604T180000
DTSTAMP:20260420T233809
CREATED:20220519T123627Z
LAST-MODIFIED:20220519T123627Z
UID:2573-1654340400-1654365600@www.michael-schneider.wine
SUMMARY:Weindate Mittelrhein
DESCRIPTION:Ein Date mit Freunden – Flanieren\, Probieren\, Feiern! \nDas weindate mittelrhein in Niederheimbach und Oberheimbach findet am Samstag\, dem 04.06.2022\, statt!! Von 11 bis 18 Uhr mit den dann gültigen Corona-Regelungen. \n  \nAn sechs Stationen präsentieren sich 30 Weingüter aus dem gesamten Anbaugebiet Mittelrhein. Die verschiedenen Standorte sind fußläufig zu erreichen. Zusätzlich durchgängiger Shuttle-Bus-Verkehr zwischen 11 und 19 Uhr. Die Haltestellen sind ausgeschildert.
URL:https://www.michael-schneider.wine/veranstaltungen/weindate-mittelrhein/
LOCATION:Nieder- & Oberheimbach\, Niederheimbach und Oberheimbach\, Rheinland-Pfalz\, Deutschland
ORGANIZER;CN="Mittelrhein-Wein%20e.%20V.":MAILTO:info@mittelrhein-wein.com
END:VEVENT
BEGIN:VEVENT
DTSTART;TZID=Europe/Berlin:20220610T150000
DTEND;TZID=Europe/Berlin:20220610T180000
DTSTAMP:20260420T233809
CREATED:20220519T125320Z
LAST-MODIFIED:20220519T125320Z
UID:2587-1654873200-1654884000@www.michael-schneider.wine
SUMMARY:Wochenmarkt Buchholz
DESCRIPTION:
URL:https://www.michael-schneider.wine/veranstaltungen/wochenmarkt-buchholz-4/
LOCATION:Heideplatz\, 56154 Boppard\, Heideplatz\, Boppard\, Rheinland-Pfalz\, 56154\, Deutschland
END:VEVENT
BEGIN:VEVENT
DTSTART;TZID=Europe/Berlin:20220617T150000
DTEND;TZID=Europe/Berlin:20220617T180000
DTSTAMP:20260420T233809
CREATED:20220519T125414Z
LAST-MODIFIED:20220519T125414Z
UID:2589-1655478000-1655488800@www.michael-schneider.wine
SUMMARY:Wochenmarkt Buchholz
DESCRIPTION:
URL:https://www.michael-schneider.wine/veranstaltungen/wochenmarkt-buchholz-5/
LOCATION:Heideplatz\, 56154 Boppard\, Heideplatz\, Boppard\, Rheinland-Pfalz\, 56154\, Deutschland
END:VEVENT
END:VCALENDAR